BEGIN:VCALENDAR
VERSION:2.0
PRODID:-//First Baptist Chipley - ECPv6.15.20//NONSGML v1.0//EN
CALSCALE:GREGORIAN
METHOD:PUBLISH
X-ORIGINAL-URL:https://firstbaptistchipley.com
X-WR-CALDESC:Events for First Baptist Chipley
REFRESH-INTERVAL;VALUE=DURATION:PT1H
X-Robots-Tag:noindex
X-PUBLISHED-TTL:PT1H
BEGIN:VTIMEZONE
TZID:America/Chicago
BEGIN:DAYLIGHT
TZOFFSETFROM:-0600
TZOFFSETTO:-0500
TZNAME:CDT
DTSTART:20250309T080000
END:DAYLIGHT
BEGIN:STANDARD
TZOFFSETFROM:-0500
TZOFFSETTO:-0600
TZNAME:CST
DTSTART:20251102T070000
END:STANDARD
BEGIN:DAYLIGHT
TZOFFSETFROM:-0600
TZOFFSETTO:-0500
TZNAME:CDT
DTSTART:20260308T080000
END:DAYLIGHT
BEGIN:STANDARD
TZOFFSETFROM:-0500
TZOFFSETTO:-0600
TZNAME:CST
DTSTART:20261101T070000
END:STANDARD
BEGIN:DAYLIGHT
TZOFFSETFROM:-0600
TZOFFSETTO:-0500
TZNAME:CDT
DTSTART:20270314T080000
END:DAYLIGHT
BEGIN:STANDARD
TZOFFSETFROM:-0500
TZOFFSETTO:-0600
TZNAME:CST
DTSTART:20271107T070000
END:STANDARD
END:VTIMEZONE
BEGIN:VEVENT
DTSTART;VALUE=DATE:20260405
DTEND;VALUE=DATE:20260406
DTSTAMP:20260419T073946
CREATED:20260323T162337Z
LAST-MODIFIED:20260323T175413Z
UID:10000552-1775347200-1775433599@firstbaptistchipley.com
SUMMARY:Easter 2026
DESCRIPTION:[vc_row type=”in_container” full_screen_row_position=”middle” column_margin=”default” column_direction=”default” column_direction_tablet=”default” column_direction_phone=”default” scene_position=”center” text_color=”dark” text_align=”left” row_border_radius=”none” row_border_radius_applies=”bg” row_position_desktop=”default” row_position_tablet=”inherit” row_position_phone=”inherit” overflow=”visible” overlay_strength=”0.3″ gradient_direction=”left_to_right” shape_divider_position=”bottom” bg_image_animation=”none”][vc_column column_padding=”no-extra-padding” column_padding_tablet=”inherit” column_padding_phone=”inherit” column_padding_position=”all” column_element_direction_desktop=”default” column_element_spacing=”10px” desktop_text_alignment=”default” tablet_text_alignment=”default” phone_text_alignment=”default” background_color_opacity=”1″ background_hover_color_opacity=”1″ column_backdrop_filter=”none” column_shadow=”none” column_border_radius=”none” column_link_target=”_self” column_position=”default” gradient_direction=”left_to_right” overlay_strength=”0.3″ width=”1/1″ tablet_width_inherit=”default” animation_type=”default” bg_image_animation=”none” border_type=”simple” column_border_width=”none” column_border_style=”solid” column_padding_type=”default” content_layout=”default” gradient_type=”default”][nectar_responsive_text inherited_font_style=”default” text_direction=”default” font_size_desktop=”24px” class_name=”event-time”]Sunday\, April 5 @ 9:00 & 10:30 a.m.\n[/nectar_responsive_text][nectar_responsive_text inherited_font_style=”default” text_direction=”default” max_width=”550″ font_size_desktop=”50px” font_line_height=”1.1″]\nJoin us for Easter at First Baptist Chipley!\n[/nectar_responsive_text][nectar_responsive_text inherited_font_style=”default” text_color=”#000000″ text_direction=”default” class_name=”event-descrip event-location”]Worship Center[/nectar_responsive_text][nectar_responsive_text inherited_font_style=”default” text_direction=”default” class_name=”event-descrip”]Join us for Easter at First Baptist Chipley as we celebrate the resurrection of Jesus! During this powerful Sunday morning\, we’ll be reading from Romans 10:6–13 and exploring how the resurrection offers eternal life to all who put their faith in Christ. Invite a friend and join us as we remember where we find our hope! [/nectar_responsive_text][nectar_responsive_text inherited_font_style=”default” text_direction=”default” font_size_desktop=”30px” font_line_height=”1.1″ class_name=”new-heading”]\nNew to First Baptist Chipley?\n[/nectar_responsive_text][nectar_responsive_text inherited_font_style=”default” text_direction=”default”]Here are a few helpful tips to help you prepare for your visit![/nectar_responsive_text][nectar_responsive_text inherited_font_style=”default” text_direction=”default”]Where should I park?\nWhen you arrive on campus\, you will find greeters ready to help you. We have a shuttle available to take you from your car to the front door of the church. You can also find handicapped and guest parking near the north and west entrances to the worship center.[/nectar_responsive_text][nectar_responsive_text inherited_font_style=”default” text_direction=”default”]What should I wear?\nWe invite you to come dressed however you feel comfortable. Jeans\, pants\, suits\, dresses\, Easter best—all are welcome! We’re just happy to see you![/nectar_responsive_text][nectar_responsive_text inherited_font_style=”default” text_direction=”default”]What options are there for my kids?\nWe have several options for all ages. \n\nFBC Kids – Babies–6th Grade \nIf you have children that are babies through kindergarten\, please visit the kids check-in desk located at the south entrance. Kids in grades 1–6\, please visit the Activity Center. Background checks are performed on all staff members and volunteers.\nFBC Students\nOn Sundays\, students in grades 7–12 meet at 9:00 am for Connect Groups\, then they attend worship together at 10:30 am.\n\n[/nectar_responsive_text][/vc_column][/vc_row]
URL:https://firstbaptistchipley.com/event/easter-2026/
LOCATION:Worship Center\, 1300 South Blvd\, Chipley\, FL\, 32428\, United States
CATEGORIES:Featured
ATTACH;FMTTYPE=image/webp:https://firstbaptistchipley.com/wp-content/uploads/2026/03/chipley-easter_FINAL-26.webp
END:VEVENT
BEGIN:VEVENT
DTSTART;TZID=America/Chicago:20260403T180000
DTEND;TZID=America/Chicago:20260403T193000
DTSTAMP:20260419T073946
CREATED:20260313T163816Z
LAST-MODIFIED:20260313T163816Z
UID:10000551-1775239200-1775244600@firstbaptistchipley.com
SUMMARY:Good Friday
DESCRIPTION:[vc_row type=”in_container” full_screen_row_position=”middle” column_margin=”default” column_direction=”default” column_direction_tablet=”default” column_direction_phone=”default” scene_position=”center” text_color=”dark” text_align=”left” row_border_radius=”none” row_border_radius_applies=”bg” row_position_desktop=”default” row_position_tablet=”inherit” row_position_phone=”inherit” overflow=”visible” overlay_strength=”0.3″ gradient_direction=”left_to_right” shape_divider_position=”bottom” bg_image_animation=”none”][vc_column column_padding=”no-extra-padding” column_padding_tablet=”inherit” column_padding_phone=”inherit” column_padding_position=”all” flex_gap_desktop=”10px” column_element_direction_desktop=”default” column_element_spacing=”default” desktop_text_alignment=”default” tablet_text_alignment=”default” phone_text_alignment=”default” background_color_opacity=”1″ background_hover_color_opacity=”1″ column_backdrop_filter=”none” column_shadow=”none” column_border_radius=”none” column_link_target=”_self” column_position=”default” gradient_direction=”left_to_right” overlay_strength=”0.3″ width=”1/1″ tablet_width_inherit=”default” animation_type=”default” bg_image_animation=”none” border_type=”simple” column_border_width=”none” column_border_style=”solid”][nectar_responsive_text inherited_font_style=”default” text_direction=”default”]\nJoin us on Friday\, April 3 at 6:00 p.m. for a Good Friday Service as we remember the cross and reflect on the sacrifice Jesus made for our salvation. \nThis will be a meaningful night of worship\, Scripture\, and observing the Lord’s Supper together as a church family\, preparing our hearts for the hope of Resurrection Sunday. \nWe invite you to come worship with us as we remember the price paid so that we could have a relationship with God. \n[/nectar_responsive_text][/vc_column][/vc_row]
URL:https://firstbaptistchipley.com/event/good-friday/
LOCATION:Worship Center\, 1300 South Blvd\, Chipley\, FL\, 32428\, United States
CATEGORIES:Featured
ATTACH;FMTTYPE=image/webp:https://firstbaptistchipley.com/wp-content/uploads/2026/03/fbc-slides-march_April-3-web.webp
END:VEVENT
END:VCALENDAR